
BEGIN:VCALENDAR
PRODID:-//Buz Software// Calendar//EN
VERSION:2.0
METHOD:REQUEST
BEGIN:VEVENT
DTSTART:20260426T050100Z
DTEND:2026042600Z
LOCATION:Hunting Hills Country Club
TRANSP:OPAQUE
SEQUENCE:0
UID:3581_3581_3581_3581
DTSTAMP:20260421T044200Z
ORGANIZER:CN=Hunting Hills Country Club:mailto:club@huntinghillscc.com
STATUS:CONFIRMED
DESCRIPTION:
SUMMARY:Spring Fling Racquet Sports Social
PRIORITY:5
CLASS:PUBLIC
BEGIN:VALARM
TRIGGER:PT180M
ACTION:DISPLAY
DESCRIPTION:Reminder
END:VALARM
END:VEVENT
END:VCALENDAR
